BEGIN:VCALENDAR
VERSION:2.0
PRODID:-//HCTA - ECPv6.15.17//NONSGML v1.0//EN
CALSCALE:GREGORIAN
METHOD:PUBLISH
X-ORIGINAL-URL:https://hillsboroughcta.org
X-WR-CALDESC:Events for HCTA
REFRESH-INTERVAL;VALUE=DURATION:PT1H
X-Robots-Tag:noindex
X-PUBLISHED-TTL:PT1H
BEGIN:VTIMEZONE
TZID:America/New_York
BEGIN:DAYLIGHT
TZOFFSETFROM:-0500
TZOFFSETTO:-0400
TZNAME:EDT
DTSTART:20170312T070000
END:DAYLIGHT
BEGIN:STANDARD
TZOFFSETFROM:-0400
TZOFFSETTO:-0500
TZNAME:EST
DTSTART:20171105T060000
END:STANDARD
BEGIN:DAYLIGHT
TZOFFSETFROM:-0500
TZOFFSETTO:-0400
TZNAME:EDT
DTSTART:20180311T070000
END:DAYLIGHT
BEGIN:STANDARD
TZOFFSETFROM:-0400
TZOFFSETTO:-0500
TZNAME:EST
DTSTART:20181104T060000
END:STANDARD
BEGIN:DAYLIGHT
TZOFFSETFROM:-0500
TZOFFSETTO:-0400
TZNAME:EDT
DTSTART:20190310T070000
END:DAYLIGHT
BEGIN:STANDARD
TZOFFSETFROM:-0400
TZOFFSETTO:-0500
TZNAME:EST
DTSTART:20191103T060000
END:STANDARD
END:VTIMEZONE
BEGIN:VEVENT
DTSTART;TZID=America/New_York:20181120T100000
DTEND;TZID=America/New_York:20181120T110000
DTSTAMP:20260421T072101
CREATED:20180814T161648Z
LAST-MODIFIED:20180814T192712Z
UID:1015-1542708000-1542711600@hillsboroughcta.org
SUMMARY:School Board Meeting
DESCRIPTION:Employee Comment at 6:00 pm
URL:https://hillsboroughcta.org/event/school-board-meeting-4-2018-11-20/2018-11-20/
LOCATION:ROSSAC\, 901 E. Kennedy Blvd.\, Tampa\, FL\, 33602\, United States
GEO:27.949194;-82.4522941
X-APPLE-STRUCTURED-LOCATION;VALUE=URI;X-ADDRESS=ROSSAC 901 E. Kennedy Blvd. Tampa FL 33602 United States;X-APPLE-RADIUS=500;X-TITLE=901 E. Kennedy Blvd.:geo:-82.4522941,27.949194
END:VEVENT
END:VCALENDAR