BEGIN:VCALENDAR
VERSION:2.0
PRODID:-//HCTA - ECPv6.15.17//NONSGML v1.0//EN
CALSCALE:GREGORIAN
METHOD:PUBLISH
X-ORIGINAL-URL:https://hillsboroughcta.org
X-WR-CALDESC:Events for HCTA
REFRESH-INTERVAL;VALUE=DURATION:PT1H
X-Robots-Tag:noindex
X-PUBLISHED-TTL:PT1H
BEGIN:VTIMEZONE
TZID:America/New_York
BEGIN:DAYLIGHT
TZOFFSETFROM:-0500
TZOFFSETTO:-0400
TZNAME:EDT
DTSTART:20240310T070000
END:DAYLIGHT
BEGIN:STANDARD
TZOFFSETFROM:-0400
TZOFFSETTO:-0500
TZNAME:EST
DTSTART:20241103T060000
END:STANDARD
BEGIN:DAYLIGHT
TZOFFSETFROM:-0500
TZOFFSETTO:-0400
TZNAME:EDT
DTSTART:20250309T070000
END:DAYLIGHT
BEGIN:STANDARD
TZOFFSETFROM:-0400
TZOFFSETTO:-0500
TZNAME:EST
DTSTART:20251102T060000
END:STANDARD
BEGIN:DAYLIGHT
TZOFFSETFROM:-0500
TZOFFSETTO:-0400
TZNAME:EDT
DTSTART:20260308T070000
END:DAYLIGHT
BEGIN:STANDARD
TZOFFSETFROM:-0400
TZOFFSETTO:-0500
TZNAME:EST
DTSTART:20261101T060000
END:STANDARD
END:VTIMEZONE
BEGIN:VEVENT
DTSTART;VALUE=DATE:20250929
DTEND;VALUE=DATE:20251031
DTSTAMP:20260422T071501
CREATED:20251016T162452Z
LAST-MODIFIED:20251016T162708Z
UID:2723-1759104000-1761868799@hillsboroughcta.org
SUMMARY:Mission Solidarity
DESCRIPTION:HCTA staff\, officers\, members\, and volunteers from across the state and nation will be out visiting sites to talk with employees about how HCTA can grow and about joining together. Follow our Mission Solidarity journey on Facebook! \n🌟 Our Vision To champion public schools in our communities where all are excited to teach\, learn\, and grow. 🌟 \nOur Mission Empowering our diverse membership to transform our community by fighting for the rights\, working conditions\, and learning conditions of all HCPS employees and students.✊ \nNow is the time to join! Together\, we can protect our contracts\, strengthen our voice\, and build a future where every employee and every student thrives. \n👉Sign up here
URL:https://hillsboroughcta.org/event/mission-solidarity/
END:VEVENT
BEGIN:VEVENT
DTSTART;TZID=America/New_York:20251018T084500
DTEND;TZID=America/New_York:20251018T120000
DTSTAMP:20260422T071501
CREATED:20251016T174656Z
LAST-MODIFIED:20251016T174726Z
UID:2725-1760777100-1760788800@hillsboroughcta.org
SUMMARY:CTechEd Presents: ASPIRE! MOC Kick Start Session 2
DESCRIPTION:Keep your NBCT certificate current! We are here to support you as you continue your journey. \nBenefits include Florida Teaching Certificate renewal and your current certificate gives you access to earn bonuses! \nVISIT to learn more: www.cteched.org/aspire-program \nLocation: HCTA Professional Learning Center \nPhone: 813-514-9924  \nEmail: info@cteched.com
URL:https://hillsboroughcta.org/event/cteched-presents-aspire-moc-kick-start-session-2/
END:VEVENT
BEGIN:VEVENT
DTSTART;TZID=America/New_York:20251018T090000
DTEND;TZID=America/New_York:20251018T120000
DTSTAMP:20260422T071501
CREATED:20251016T184137Z
LAST-MODIFIED:20251016T190556Z
UID:2729-1760778000-1760788800@hillsboroughcta.org
SUMMARY:CTechEd Presents: M6: Keeping Students with Disabilities Safe from Bullying
DESCRIPTION:**For HCTA Members only** \nESE Courses \nThese courses are infused with the Best Practice strategies for ALL educators. In-service credits count toward required ESE hours for state recertification. Points are uploaded in May. \nEarn up to 4 in-service points per course! \nClick here for more information. \nPhone: 813-514-9924 \nEmail: info@cteched.com
URL:https://hillsboroughcta.org/event/cteched-presents-m6-keeping-students-with-disabilities-safe-from-bullying/
END:VEVENT
END:VCALENDAR